BEGIN:VCALENDAR
VERSION:2.0
CALSCALE:GREGORIAN
PRODID:UnionActive
BEGIN:VEVENT
UID:11838373@ibew2.org
SUMMARY:Hannibal BPW Unit Meeting
DESCRIPTION:Contact:  \nLink for more information: http://ibew2.org/index.cfm?zone=/unionactive/view_calendar.cfm&calendarID=11838373&thisdate=08/10/2023&useCalSection=main
LOCATION:
URL:http://ibew2.org/index.cfm?zone=/unionactive/view_calendar.cfm&calendarID=11838373&thisdate=08/10/2023&useCalSection=main
DTSTART:20230810T210000Z
DTEND:20230810T230000Z
DTSTAMP:20260419T184108
TRIGGER:-PT60M
END:VEVENT
END:VCALENDAR
