BEGIN:VCALENDAR
VERSION:2.0
CALSCALE:GREGORIAN
PRODID:UnionActive
BEGIN:VEVENT
UID:11838367@ibew2.org
SUMMARY:Hannibal BPW Unit Meeting
DESCRIPTION:Contact:  \nLink for more information: http://ibew2.org/index.cfm?zone=/unionactive/view_calendar.cfm&calendarID=11838367&thisdate=08/11/2022&useCalSection=main
LOCATION:
URL:http://ibew2.org/index.cfm?zone=/unionactive/view_calendar.cfm&calendarID=11838367&thisdate=08/11/2022&useCalSection=main
DTSTART:20220811T210000Z
DTEND:20220811T230000Z
DTSTAMP:20260419T164539
TRIGGER:-PT60M
END:VEVENT
END:VCALENDAR
