BEGIN:VCALENDAR
VERSION:2.0
CALSCALE:GREGORIAN
PRODID:UnionActive
BEGIN:VEVENT
UID:11838366@ibew2.org
SUMMARY:Hannibal BPW Unit Meeting
DESCRIPTION:Contact:  \nLink for more information: http://ibew2.org/index.cfm?zone=/unionactive/view_calendar.cfm&calendarID=11838366&thisdate=06/09/2022&useCalSection=main
LOCATION:
URL:http://ibew2.org/index.cfm?zone=/unionactive/view_calendar.cfm&calendarID=11838366&thisdate=06/09/2022&useCalSection=main
DTSTART:20220609T210000Z
DTEND:20220609T230000Z
DTSTAMP:20260419T100036
TRIGGER:-PT60M
END:VEVENT
END:VCALENDAR
