BEGIN:VCALENDAR
VERSION:2.0
CALSCALE:GREGORIAN
PRODID:UnionActive
BEGIN:VEVENT
UID:11838355@ibew2.org
SUMMARY:Lewis County REC Unit Meeting
DESCRIPTION:Contact:  \nLink for more information: http://ibew2.org/index.cfm?zone=/unionactive/view_calendar.cfm&calendarID=11838355&thisdate=08/09/2045&useCalSection=main
LOCATION:
URL:http://ibew2.org/index.cfm?zone=/unionactive/view_calendar.cfm&calendarID=11838355&thisdate=08/09/2045&useCalSection=main
DTSTART:20450809T213000Z
DTEND:20450809T223000Z
DTSTAMP:20260419T233302
TRIGGER:-PT60M
END:VEVENT
END:VCALENDAR
