BEGIN:VCALENDAR
VERSION:2.0
CALSCALE:GREGORIAN
PRODID:UnionActive
BEGIN:VEVENT
UID:11838352@ibew2.org
SUMMARY:Lewis County REC Unit Meeting
DESCRIPTION:Contact:  \nLink for more information: http://ibew2.org/index.cfm?zone=/unionactive/view_calendar.cfm&calendarID=11838352&thisdate=02/08/2045&useCalSection=main
LOCATION:
URL:http://ibew2.org/index.cfm?zone=/unionactive/view_calendar.cfm&calendarID=11838352&thisdate=02/08/2045&useCalSection=main
DTSTART:20450208T223000Z
DTEND:20450208T233000Z
DTSTAMP:20260419T214927
TRIGGER:-PT60M
END:VEVENT
END:VCALENDAR
