BEGIN:VCALENDAR
VERSION:2.0
CALSCALE:GREGORIAN
PRODID:UnionActive
BEGIN:VEVENT
UID:11838344@ibew2.org
SUMMARY:Lewis County REC Unit Meeting
DESCRIPTION:Contact:  \nLink for more information: http://ibew2.org/index.cfm?zone=/unionactive/view_calendar.cfm&calendarID=11838344&thisdate=10/14/2043&useCalSection=main
LOCATION:
URL:http://ibew2.org/index.cfm?zone=/unionactive/view_calendar.cfm&calendarID=11838344&thisdate=10/14/2043&useCalSection=main
DTSTART:20431014T213000Z
DTEND:20431014T223000Z
DTSTAMP:20260419T151104
TRIGGER:-PT60M
END:VEVENT
END:VCALENDAR
