BEGIN:VCALENDAR
VERSION:2.0
CALSCALE:GREGORIAN
PRODID:UnionActive
BEGIN:VEVENT
UID:11838316@ibew2.org
SUMMARY:Lewis County REC Unit Meeting
DESCRIPTION:Contact:  \nLink for more information: http://ibew2.org/index.cfm?zone=/unionactive/view_calendar.cfm&calendarID=11838316&thisdate=02/09/2039&useCalSection=main
LOCATION:
URL:http://ibew2.org/index.cfm?zone=/unionactive/view_calendar.cfm&calendarID=11838316&thisdate=02/09/2039&useCalSection=main
DTSTART:20390209T223000Z
DTEND:20390209T233000Z
DTSTAMP:20260419T101004
TRIGGER:-PT60M
END:VEVENT
END:VCALENDAR
