BEGIN:VCALENDAR
VERSION:2.0
CALSCALE:GREGORIAN
PRODID:UnionActive
BEGIN:VEVENT
UID:11838314@ibew2.org
SUMMARY:Lewis County REC Unit Meeting
DESCRIPTION:Contact:  \nLink for more information: http://ibew2.org/index.cfm?zone=/unionactive/view_calendar.cfm&calendarID=11838314&thisdate=10/13/2038&useCalSection=main
LOCATION:
URL:http://ibew2.org/index.cfm?zone=/unionactive/view_calendar.cfm&calendarID=11838314&thisdate=10/13/2038&useCalSection=main
DTSTART:20381013T213000Z
DTEND:20381013T223000Z
DTSTAMP:20260419T181958
TRIGGER:-PT60M
END:VEVENT
END:VCALENDAR
