BEGIN:VCALENDAR
VERSION:2.0
CALSCALE:GREGORIAN
PRODID:UnionActive
BEGIN:VEVENT
UID:11838266@ibew2.org
SUMMARY:Lewis County REC Unit Meeting
DESCRIPTION:Contact:  \nLink for more information: http://ibew2.org/index.cfm?zone=/unionactive/view_calendar.cfm&calendarID=11838266&thisdate=10/09/2030&useCalSection=main
LOCATION:
URL:http://ibew2.org/index.cfm?zone=/unionactive/view_calendar.cfm&calendarID=11838266&thisdate=10/09/2030&useCalSection=main
DTSTART:20301009T213000Z
DTEND:20301009T223000Z
DTSTAMP:20260419T151449
TRIGGER:-PT60M
END:VEVENT
END:VCALENDAR
