BEGIN:VCALENDAR
VERSION:2.0
CALSCALE:GREGORIAN
PRODID:UnionActive
BEGIN:VEVENT
UID:11838244@ibew2.org
SUMMARY:Lewis County REC Unit Meeting
DESCRIPTION:Contact:  \nLink for more information: http://ibew2.org/index.cfm?zone=/unionactive/view_calendar.cfm&calendarID=11838244&thisdate=02/10/2027&useCalSection=main
LOCATION:
URL:http://ibew2.org/index.cfm?zone=/unionactive/view_calendar.cfm&calendarID=11838244&thisdate=02/10/2027&useCalSection=main
DTSTART:20270210T223000Z
DTEND:20270210T233000Z
DTSTAMP:20260419T065032
TRIGGER:-PT60M
END:VEVENT
END:VCALENDAR
