BEGIN:VCALENDAR
VERSION:2.0
CALSCALE:GREGORIAN
PRODID:UnionActive
BEGIN:VEVENT
UID:11838236@ibew2.org
SUMMARY:Lewis County REC Unit Meeting
DESCRIPTION:Contact:  \nLink for more information: http://ibew2.org/index.cfm?zone=/unionactive/view_calendar.cfm&calendarID=11838236&thisdate=10/08/2025&useCalSection=main
LOCATION:
URL:http://ibew2.org/index.cfm?zone=/unionactive/view_calendar.cfm&calendarID=11838236&thisdate=10/08/2025&useCalSection=main
DTSTART:20251008T213000Z
DTEND:20251008T223000Z
DTSTAMP:20260419T114541
TRIGGER:-PT60M
END:VEVENT
END:VCALENDAR
