BEGIN:VCALENDAR
VERSION:2.0
CALSCALE:GREGORIAN
PRODID:UnionActive
BEGIN:VEVENT
UID:11838211@ibew2.org
SUMMARY:Lewis County REC Unit Meeting
DESCRIPTION:Contact:  \nLink for more information: http://ibew2.org/index.cfm?zone=/unionactive/view_calendar.cfm&calendarID=11838211&thisdate=08/11/2021&useCalSection=main
LOCATION:
URL:http://ibew2.org/index.cfm?zone=/unionactive/view_calendar.cfm&calendarID=11838211&thisdate=08/11/2021&useCalSection=main
DTSTART:20210811T213000Z
DTEND:20210811T223000Z
DTSTAMP:20260419T201522
TRIGGER:-PT60M
END:VEVENT
END:VCALENDAR
